BEGIN:VCALENDAR
VERSION:2.0
PRODID:-// - ECPv5.6.0//NONSGML v1.0//EN
CALSCALE:GREGORIAN
METHOD:PUBLISH
X-ORIGINAL-URL:http://www.reggiapower.it
X-WR-CALDESC:Eventi per 
BEGIN:VTIMEZONE
TZID:Europe/Rome
BEGIN:DAYLIGHT
TZOFFSETFROM:+0100
TZOFFSETTO:+0200
TZNAME:CEST
DTSTART:20220327T010000
END:DAYLIGHT
BEGIN:STANDARD
TZOFFSETFROM:+0200
TZOFFSETTO:+0100
TZNAME:CET
DTSTART:20221030T010000
END:STANDARD
END:VTIMEZONE
BEGIN:VEVENT
DTSTART;VALUE=DATE:20220828
DTEND;VALUE=DATE:20220829
DTSTAMP:20260423T141451
CREATED:20220727T061546Z
LAST-MODIFIED:20220727T061546Z
UID:4996-1661644800-1661731199@www.reggiapower.it
SUMMARY:XXIV STRADUGENTA
DESCRIPTION:GARA PODISTICA SU STRADA SULLA DISTANZA DI 10 KM
URL:http://www.reggiapower.it/?tribe_events=xxiv-stradugenta
LOCATION:DUGENTA\, P.zza Unità Italiana\, Dugenta\, Benevento\, 82030\, Italia
END:VEVENT
END:VCALENDAR