BEGIN:VCALENDAR
VERSION:2.0
PRODID:-// - ECPv5.6.0//NONSGML v1.0//EN
CALSCALE:GREGORIAN
METHOD:PUBLISH
X-ORIGINAL-URL:http://www.reggiapower.it
X-WR-CALDESC:Eventi per 
BEGIN:VTIMEZONE
TZID:Europe/Rome
BEGIN:DAYLIGHT
TZOFFSETFROM:+0100
TZOFFSETTO:+0200
TZNAME:CEST
DTSTART:20210328T010000
END:DAYLIGHT
BEGIN:STANDARD
TZOFFSETFROM:+0200
TZOFFSETTO:+0100
TZNAME:CET
DTSTART:20211031T010000
END:STANDARD
END:VTIMEZONE
BEGIN:VEVENT
DTSTART;VALUE=DATE:20210620
DTEND;VALUE=DATE:20210621
DTSTAMP:20260423T142618
CREATED:20210516T074527Z
LAST-MODIFIED:20210516T074624Z
UID:4421-1624147200-1624233599@www.reggiapower.it
SUMMARY:XIV^ Edizione Trofeo città di Telesia 2021
DESCRIPTION:Corsa su strada sulla distanza di 10 km
URL:http://www.reggiapower.it/?tribe_events=xiv-edizione-trofeo-citta-di-telesia-2021
LOCATION:Telese Terme\, Viale Europa\, Telese terme\, benevento\, 82037\, Italia
END:VEVENT
END:VCALENDAR