BEGIN:VCALENDAR
VERSION:2.0
PRODID:-// - ECPv5.6.0//NONSGML v1.0//EN
CALSCALE:GREGORIAN
METHOD:PUBLISH
X-ORIGINAL-URL:http://www.reggiapower.it
X-WR-CALDESC:Eventi per 
BEGIN:VTIMEZONE
TZID:Europe/Rome
BEGIN:DAYLIGHT
TZOFFSETFROM:+0100
TZOFFSETTO:+0200
TZNAME:CEST
DTSTART:20190331T010000
END:DAYLIGHT
BEGIN:STANDARD
TZOFFSETFROM:+0200
TZOFFSETTO:+0100
TZNAME:CET
DTSTART:20191027T010000
END:STANDARD
END:VTIMEZONE
BEGIN:VEVENT
DTSTART;TZID=Europe/Rome:20190825T180000
DTEND;TZID=Europe/Rome:20190825T190000
DTSTAMP:20260423T182201
CREATED:20190731T064337Z
LAST-MODIFIED:20190731T064337Z
UID:3701-1566756000-1566759600@www.reggiapower.it
SUMMARY:XIII STRADUGENTA
DESCRIPTION:gara podistica su strada distanza 10 km
URL:http://www.reggiapower.it/?tribe_events=xiii-stradugenta
END:VEVENT
END:VCALENDAR