BEGIN:VCALENDAR
VERSION:2.0
PRODID:-// - ECPv5.6.0//NONSGML v1.0//EN
CALSCALE:GREGORIAN
METHOD:PUBLISH
X-ORIGINAL-URL:http://www.reggiapower.it
X-WR-CALDESC:Eventi per 
BEGIN:VTIMEZONE
TZID:Europe/Rome
BEGIN:DAYLIGHT
TZOFFSETFROM:+0100
TZOFFSETTO:+0200
TZNAME:CEST
DTSTART:20220327T010000
END:DAYLIGHT
BEGIN:STANDARD
TZOFFSETFROM:+0200
TZOFFSETTO:+0100
TZNAME:CET
DTSTART:20221030T010000
END:STANDARD
END:VTIMEZONE
BEGIN:VEVENT
DTSTART;VALUE=DATE:20220918
DTEND;VALUE=DATE:20220919
DTSTAMP:20260423T124749
CREATED:20220701T133731Z
LAST-MODIFIED:20220701T133731Z
UID:4990-1663459200-1663545599@www.reggiapower.it
SUMMARY:XI Edizione Corri Road Runners
DESCRIPTION:
URL:http://www.reggiapower.it/?tribe_events=xi-edizione-corri-road-runners
LOCATION:Maddaloni\, Via Napoli\, Maddaloni\, caserta\, 81024\, Italia
END:VEVENT
END:VCALENDAR