BEGIN:VCALENDAR
VERSION:2.0
PRODID:-// - ECPv5.6.0//NONSGML v1.0//EN
CALSCALE:GREGORIAN
METHOD:PUBLISH
X-ORIGINAL-URL:http://www.reggiapower.it
X-WR-CALDESC:Eventi per 
BEGIN:VTIMEZONE
TZID:Europe/Rome
BEGIN:DAYLIGHT
TZOFFSETFROM:+0100
TZOFFSETTO:+0200
TZNAME:CEST
DTSTART:20190331T010000
END:DAYLIGHT
BEGIN:STANDARD
TZOFFSETFROM:+0200
TZOFFSETTO:+0100
TZNAME:CET
DTSTART:20191027T010000
END:STANDARD
END:VTIMEZONE
BEGIN:VEVENT
DTSTART;TZID=Europe/Rome:20191013T090000
DTEND;TZID=Europe/Rome:20191013T100000
DTSTAMP:20260423T124922
CREATED:20190918T080302Z
LAST-MODIFIED:20190918T080302Z
UID:3812-1570957200-1570960800@www.reggiapower.it
SUMMARY:X Edizione " alle falde del vesuvio" 5° memorial Saverio Ambrosio
DESCRIPTION:Gara su strada sulla distanza di 10 km
URL:http://www.reggiapower.it/?tribe_events=x-edizione-alle-falde-del-vesuvio-5-memorial-saverio-ambrosio
LOCATION:San Giuseppe Vesuviano\, Piazza Garibaldi\, San Giuseppe Vesuviano\, Napoli\, Italy
END:VEVENT
END:VCALENDAR