BEGIN:VCALENDAR
VERSION:2.0
PRODID:-// - ECPv5.6.0//NONSGML v1.0//EN
CALSCALE:GREGORIAN
METHOD:PUBLISH
X-ORIGINAL-URL:http://www.reggiapower.it
X-WR-CALDESC:Eventi per 
BEGIN:VTIMEZONE
TZID:Europe/Rome
BEGIN:DAYLIGHT
TZOFFSETFROM:+0100
TZOFFSETTO:+0200
TZNAME:CEST
DTSTART:20210328T010000
END:DAYLIGHT
BEGIN:STANDARD
TZOFFSETFROM:+0200
TZOFFSETTO:+0100
TZNAME:CET
DTSTART:20211031T010000
END:STANDARD
END:VTIMEZONE
BEGIN:VEVENT
DTSTART;VALUE=DATE:20210516
DTEND;VALUE=DATE:20210517
DTSTAMP:20260423T141619
CREATED:20210428T072933Z
LAST-MODIFIED:20210428T074524Z
UID:4404-1621123200-1621209599@www.reggiapower.it
SUMMARY:VIII^ Edizione Half Marathon Barletta
DESCRIPTION:  \ncorsa su strada sulla distanza di 21.097 km
URL:http://www.reggiapower.it/?tribe_events=viii-edizione-half-marathon-barletta
LOCATION:Barletta\, Via Ferdinando Cafiero\, Barletta\, 76121\, Italia
END:VEVENT
END:VCALENDAR