BEGIN:VCALENDAR
VERSION:2.0
PRODID:-// - ECPv5.6.0//NONSGML v1.0//EN
CALSCALE:GREGORIAN
METHOD:PUBLISH
X-ORIGINAL-URL:http://www.reggiapower.it
X-WR-CALDESC:Eventi per 
BEGIN:VTIMEZONE
TZID:Europe/Rome
BEGIN:DAYLIGHT
TZOFFSETFROM:+0100
TZOFFSETTO:+0200
TZNAME:CEST
DTSTART:20210328T010000
END:DAYLIGHT
BEGIN:STANDARD
TZOFFSETFROM:+0200
TZOFFSETTO:+0100
TZNAME:CET
DTSTART:20211031T010000
END:STANDARD
END:VTIMEZONE
BEGIN:VEVENT
DTSTART;VALUE=DATE:20211219
DTEND;VALUE=DATE:20211220
DTSTAMP:20260423T141621
CREATED:20211203T151204Z
LAST-MODIFIED:20211203T151204Z
UID:4640-1639872000-1639958399@www.reggiapower.it
SUMMARY:VII TROFEO CITTA' DI NOLA
DESCRIPTION:  \nGara podistica su strada sulla distanza di 10 KM
URL:http://www.reggiapower.it/?tribe_events=vii-trofeo-citta-di-nola
LOCATION:NOLA\, PIAZZA DUOMO\, Nola\, napoli\, 80035\, Italia
END:VEVENT
END:VCALENDAR