BEGIN:VCALENDAR
VERSION:2.0
PRODID:-// - ECPv5.6.0//NONSGML v1.0//EN
CALSCALE:GREGORIAN
METHOD:PUBLISH
X-ORIGINAL-URL:http://www.reggiapower.it
X-WR-CALDESC:Eventi per 
BEGIN:VTIMEZONE
TZID:Europe/Rome
BEGIN:DAYLIGHT
TZOFFSETFROM:+0100
TZOFFSETTO:+0200
TZNAME:CEST
DTSTART:20200329T010000
END:DAYLIGHT
BEGIN:STANDARD
TZOFFSETFROM:+0200
TZOFFSETTO:+0100
TZNAME:CET
DTSTART:20201025T010000
END:STANDARD
END:VTIMEZONE
BEGIN:VEVENT
DTSTART;TZID=Europe/Rome:20200216T083000
DTEND;TZID=Europe/Rome:20200216T103000
DTSTAMP:20260423T124755
CREATED:20200116T083844Z
LAST-MODIFIED:20200116T083844Z
UID:4243-1581841800-1581849000@www.reggiapower.it
SUMMARY:VII Maratonina di Carnevale
DESCRIPTION:  \nGara su strada sulla distanza di 10 KM
URL:http://www.reggiapower.it/?tribe_events=vii-maratonina-di-carnevale
LOCATION:Palma Campania\, Via Marconi\, Palma Campania\, Napoli\, 80036\, Italia
END:VEVENT
END:VCALENDAR