BEGIN:VCALENDAR
VERSION:2.0
PRODID:-// - ECPv5.6.0//NONSGML v1.0//EN
CALSCALE:GREGORIAN
METHOD:PUBLISH
X-ORIGINAL-URL:http://www.reggiapower.it
X-WR-CALDESC:Eventi per 
BEGIN:VTIMEZONE
TZID:Europe/Rome
BEGIN:DAYLIGHT
TZOFFSETFROM:+0100
TZOFFSETTO:+0200
TZNAME:CEST
DTSTART:20190331T010000
END:DAYLIGHT
BEGIN:STANDARD
TZOFFSETFROM:+0200
TZOFFSETTO:+0100
TZNAME:CET
DTSTART:20191027T010000
END:STANDARD
END:VTIMEZONE
BEGIN:VEVENT
DTSTART;TZID=Europe/Rome:20190616T090000
DTEND;TZID=Europe/Rome:20190616T090000
DTSTAMP:20260423T131749
CREATED:20190601T160028Z
LAST-MODIFIED:20190601T160028Z
UID:3658-1560675600-1560675600@www.reggiapower.it
SUMMARY:Trail città di Caserta- VII edizione
DESCRIPTION:VII edizione di corsa in montagna sui sentieri del Borgo di Casertavecchia \n15 km
URL:http://www.reggiapower.it/?tribe_events=trail-citta-di-caserta-vii-edizione
LOCATION:Borgo di Casertavecchia\, Piazza Trivio\, Casola\, caserta\, 81100\, Italia
END:VEVENT
END:VCALENDAR