BEGIN:VCALENDAR
VERSION:2.0
PRODID:-// - ECPv5.6.0//NONSGML v1.0//EN
CALSCALE:GREGORIAN
METHOD:PUBLISH
X-ORIGINAL-URL:http://www.reggiapower.it
X-WR-CALDESC:Eventi per 
BEGIN:VTIMEZONE
TZID:Europe/Rome
BEGIN:DAYLIGHT
TZOFFSETFROM:+0100
TZOFFSETTO:+0200
TZNAME:CEST
DTSTART:20220327T010000
END:DAYLIGHT
BEGIN:STANDARD
TZOFFSETFROM:+0200
TZOFFSETTO:+0100
TZNAME:CET
DTSTART:20221030T010000
END:STANDARD
END:VTIMEZONE
BEGIN:VEVENT
DTSTART;VALUE=DATE:20221002
DTEND;VALUE=DATE:20221003
DTSTAMP:20260423T131618
CREATED:20220401T134140Z
LAST-MODIFIED:20220526T132811Z
UID:4877-1664668800-1664755199@www.reggiapower.it
SUMMARY:Telesia Half Marathon 7° Edizione
DESCRIPTION:Corsa su strada sulla distanza di 21 km
URL:http://www.reggiapower.it/?tribe_events=telesia-half-marathon-7-edizione
LOCATION:Telese Terme\, Viale Europa\, Telese Terme\, Benevento\, 82037\, Italia
END:VEVENT
END:VCALENDAR