BEGIN:VCALENDAR
VERSION:2.0
PRODID:-// - ECPv5.6.0//NONSGML v1.0//EN
CALSCALE:GREGORIAN
METHOD:PUBLISH
X-ORIGINAL-URL:http://www.reggiapower.it
X-WR-CALDESC:Eventi per 
BEGIN:VTIMEZONE
TZID:Europe/Rome
BEGIN:DAYLIGHT
TZOFFSETFROM:+0100
TZOFFSETTO:+0200
TZNAME:CEST
DTSTART:20190331T010000
END:DAYLIGHT
BEGIN:STANDARD
TZOFFSETFROM:+0200
TZOFFSETTO:+0100
TZNAME:CET
DTSTART:20191027T010000
END:STANDARD
END:VTIMEZONE
BEGIN:VEVENT
DTSTART;VALUE=DATE:20191006
DTEND;VALUE=DATE:20191007
DTSTAMP:20260423T164448
CREATED:20190319T123054Z
LAST-MODIFIED:20190319T123323Z
UID:3246-1570320000-1570406399@www.reggiapower.it
SUMMARY:Telesia Half Marathon 2019
DESCRIPTION:Gara podistica sulla distanza di km 21\,097
URL:http://www.reggiapower.it/?tribe_events=telesia-half-marathon-2019
LOCATION:Telese Terme\, Telese Terme\, Benevento\, Italia
END:VEVENT
END:VCALENDAR