BEGIN:VCALENDAR
VERSION:2.0
PRODID:-// - ECPv5.6.0//NONSGML v1.0//EN
CALSCALE:GREGORIAN
METHOD:PUBLISH
X-ORIGINAL-URL:http://www.reggiapower.it
X-WR-CALDESC:Eventi per 
BEGIN:VTIMEZONE
TZID:Europe/Rome
BEGIN:DAYLIGHT
TZOFFSETFROM:+0100
TZOFFSETTO:+0200
TZNAME:CEST
DTSTART:20210328T010000
END:DAYLIGHT
BEGIN:STANDARD
TZOFFSETFROM:+0200
TZOFFSETTO:+0100
TZNAME:CET
DTSTART:20211031T010000
END:STANDARD
END:VTIMEZONE
BEGIN:VEVENT
DTSTART;VALUE=DATE:20211003
DTEND;VALUE=DATE:20211004
DTSTAMP:20260423T124458
CREATED:20210707T072513Z
LAST-MODIFIED:20210929T143051Z
UID:4473-1633219200-1633305599@www.reggiapower.it
SUMMARY:Telese Half Marathon
DESCRIPTION:Corsa su strada sulla distanza di Km 21.097
URL:http://www.reggiapower.it/?tribe_events=telese-half-marathon
LOCATION:Telese Terme\, Viale Europa\, Telese terme\, benevento\, 82037\, Italia
END:VEVENT
END:VCALENDAR