BEGIN:VCALENDAR
VERSION:2.0
PRODID:-// - ECPv5.6.0//NONSGML v1.0//EN
CALSCALE:GREGORIAN
METHOD:PUBLISH
X-ORIGINAL-URL:http://www.reggiapower.it
X-WR-CALDESC:Eventi per 
BEGIN:VTIMEZONE
TZID:Europe/Rome
BEGIN:DAYLIGHT
TZOFFSETFROM:+0100
TZOFFSETTO:+0200
TZNAME:CEST
DTSTART:20230326T010000
END:DAYLIGHT
BEGIN:STANDARD
TZOFFSETFROM:+0200
TZOFFSETTO:+0100
TZNAME:CET
DTSTART:20231029T010000
END:STANDARD
END:VTIMEZONE
BEGIN:VEVENT
DTSTART;VALUE=DATE:20230618
DTEND;VALUE=DATE:20230619
DTSTAMP:20260423T193411
CREATED:20230308T081325Z
LAST-MODIFIED:20230308T081325Z
UID:5324-1687046400-1687132799@www.reggiapower.it
SUMMARY:TELESE 10 KM 16
DESCRIPTION:Corsa su strada sulla distanza di 10 Km
URL:http://www.reggiapower.it/?tribe_events=telese-10-km-16
LOCATION:TELESE\, Telese Terme\, Telese\, Benevento\, 82037\, Italia
END:VEVENT
END:VCALENDAR