BEGIN:VCALENDAR
VERSION:2.0
PRODID:-// - ECPv5.6.0//NONSGML v1.0//EN
CALSCALE:GREGORIAN
METHOD:PUBLISH
X-ORIGINAL-URL:http://www.reggiapower.it
X-WR-CALDESC:Eventi per 
BEGIN:VTIMEZONE
TZID:Europe/Rome
BEGIN:DAYLIGHT
TZOFFSETFROM:+0100
TZOFFSETTO:+0200
TZNAME:CEST
DTSTART:20210328T010000
END:DAYLIGHT
BEGIN:STANDARD
TZOFFSETFROM:+0200
TZOFFSETTO:+0100
TZNAME:CET
DTSTART:20211031T010000
END:STANDARD
END:VTIMEZONE
BEGIN:VEVENT
DTSTART;VALUE=DATE:20211024
DTEND;VALUE=DATE:20211025
DTSTAMP:20260423T124535
CREATED:20211006T064039Z
LAST-MODIFIED:20211006T064040Z
UID:4504-1635033600-1635119999@www.reggiapower.it
SUMMARY:STRASALERNO
DESCRIPTION:corsa su strada sulla distanza di 21.195 km
URL:http://www.reggiapower.it/?tribe_events=strasalerno
LOCATION:Salerno\, Via Piscina Vitale\, Salerno\, salerno\, 84100\, Italia
END:VEVENT
END:VCALENDAR