BEGIN:VCALENDAR
VERSION:2.0
PRODID:-// - ECPv5.6.0//NONSGML v1.0//EN
CALSCALE:GREGORIAN
METHOD:PUBLISH
X-ORIGINAL-URL:http://www.reggiapower.it
X-WR-CALDESC:Eventi per 
BEGIN:VTIMEZONE
TZID:Europe/Rome
BEGIN:DAYLIGHT
TZOFFSETFROM:+0100
TZOFFSETTO:+0200
TZNAME:CEST
DTSTART:20210328T010000
END:DAYLIGHT
BEGIN:STANDARD
TZOFFSETFROM:+0200
TZOFFSETTO:+0100
TZNAME:CET
DTSTART:20211031T010000
END:STANDARD
END:VTIMEZONE
BEGIN:VEVENT
DTSTART;VALUE=DATE:20211226
DTEND;VALUE=DATE:20211227
DTSTAMP:20260423T161111
CREATED:20211210T152449Z
LAST-MODIFIED:20211210T152449Z
UID:4664-1640476800-1640563199@www.reggiapower.it
SUMMARY:SAN PAOLO DAY XI EDIZIONE
DESCRIPTION:
URL:http://www.reggiapower.it/?tribe_events=san-paolo-day-xi-edizione
LOCATION:Napoli\, Viale J.F. Kennedy\, Napoli\, napoli\, 80121\, Italia
END:VEVENT
END:VCALENDAR