BEGIN:VCALENDAR
VERSION:2.0
PRODID:-// - ECPv5.6.0//NONSGML v1.0//EN
CALSCALE:GREGORIAN
METHOD:PUBLISH
X-ORIGINAL-URL:http://www.reggiapower.it
X-WR-CALDESC:Eventi per 
BEGIN:VTIMEZONE
TZID:Europe/Rome
BEGIN:DAYLIGHT
TZOFFSETFROM:+0100
TZOFFSETTO:+0200
TZNAME:CEST
DTSTART:20200329T010000
END:DAYLIGHT
BEGIN:STANDARD
TZOFFSETFROM:+0200
TZOFFSETTO:+0100
TZNAME:CET
DTSTART:20201025T010000
END:STANDARD
END:VTIMEZONE
BEGIN:VEVENT
DTSTART;TZID=Europe/Rome:20200419T083000
DTEND;TZID=Europe/Rome:20200419T113000
DTSTAMP:20260423T164611
CREATED:20200127T081359Z
LAST-MODIFIED:20200127T081359Z
UID:4277-1587285000-1587295800@www.reggiapower.it
SUMMARY:" Salerno corre Half Marathon" 1° Edizione
DESCRIPTION:Gara su strada sulla distanza di 21.025 km
URL:http://www.reggiapower.it/?tribe_events=salerno-corre-half-marathon-1-edizione
LOCATION:Salerno\, Via Lungomare Trieste\, Salerno\, Salerno\, 84121\, Italia
END:VEVENT
END:VCALENDAR