BEGIN:VCALENDAR
VERSION:2.0
PRODID:-// - ECPv5.6.0//NONSGML v1.0//EN
CALSCALE:GREGORIAN
METHOD:PUBLISH
X-ORIGINAL-URL:http://www.reggiapower.it
X-WR-CALDESC:Eventi per 
BEGIN:VTIMEZONE
TZID:Europe/Rome
BEGIN:DAYLIGHT
TZOFFSETFROM:+0100
TZOFFSETTO:+0200
TZNAME:CEST
DTSTART:20230326T010000
END:DAYLIGHT
BEGIN:STANDARD
TZOFFSETFROM:+0200
TZOFFSETTO:+0100
TZNAME:CET
DTSTART:20231029T010000
END:STANDARD
END:VTIMEZONE
BEGIN:VEVENT
DTSTART;VALUE=DATE:20230416
DTEND;VALUE=DATE:20230417
DTSTAMP:20260423T142248
CREATED:20230322T075509Z
LAST-MODIFIED:20230322T075509Z
UID:5342-1681603200-1681689599@www.reggiapower.it
SUMMARY:RUNNING VANVITELLI
DESCRIPTION:Corsa su strada sulla distanza di 10 Km
URL:http://www.reggiapower.it/?tribe_events=running-vanvitelli
LOCATION:CASERTA\, Piazza margherita\, Caserta\, Caserta\, 81100\, Italia
END:VEVENT
END:VCALENDAR