BEGIN:VCALENDAR
VERSION:2.0
PRODID:-// - ECPv5.6.0//NONSGML v1.0//EN
CALSCALE:GREGORIAN
METHOD:PUBLISH
X-ORIGINAL-URL:http://www.reggiapower.it
X-WR-CALDESC:Eventi per 
BEGIN:VTIMEZONE
TZID:Europe/Rome
BEGIN:DAYLIGHT
TZOFFSETFROM:+0100
TZOFFSETTO:+0200
TZNAME:CEST
DTSTART:20200329T010000
END:DAYLIGHT
BEGIN:STANDARD
TZOFFSETFROM:+0200
TZOFFSETTO:+0100
TZNAME:CET
DTSTART:20201025T010000
END:STANDARD
END:VTIMEZONE
BEGIN:VEVENT
DTSTART;TZID=Europe/Rome:20200329T083000
DTEND;TZID=Europe/Rome:20200329T083000
DTSTAMP:20260423T131608
CREATED:20191111T160238Z
LAST-MODIFIED:20191111T160238Z
UID:3999-1585470600-1585470600@www.reggiapower.it
SUMMARY:Run Rome The Marathon
DESCRIPTION:        \n  \nCorsa su strada sulla distanza di 42.195 km
URL:http://www.reggiapower.it/?tribe_events=run-rome-the-marathon
LOCATION:ROMA\, Colosseo\, Roma\, roma\, 00184
END:VEVENT
END:VCALENDAR