BEGIN:VCALENDAR
VERSION:2.0
PRODID:-// - ECPv5.6.0//NONSGML v1.0//EN
CALSCALE:GREGORIAN
METHOD:PUBLISH
X-ORIGINAL-URL:http://www.reggiapower.it
X-WR-CALDESC:Eventi per 
BEGIN:VTIMEZONE
TZID:Europe/Rome
BEGIN:DAYLIGHT
TZOFFSETFROM:+0100
TZOFFSETTO:+0200
TZNAME:CEST
DTSTART:20220327T010000
END:DAYLIGHT
BEGIN:STANDARD
TZOFFSETFROM:+0200
TZOFFSETTO:+0100
TZNAME:CET
DTSTART:20221030T010000
END:STANDARD
END:VTIMEZONE
BEGIN:VEVENT
DTSTART;VALUE=DATE:20221106
DTEND;VALUE=DATE:20221107
DTSTAMP:20260423T131631
CREATED:20221026T061627Z
LAST-MODIFIED:20221026T061627Z
UID:5127-1667692800-1667779199@www.reggiapower.it
SUMMARY:Paestum Marathon 2022
DESCRIPTION:Corse su strada sulla distanza di 42.195 Km – 21.097 Km- 10 Km
URL:http://www.reggiapower.it/?tribe_events=paestum-marathon-2022
LOCATION:Paestum\, Via Cafasso\, Paestum\, salerno\, 84047\, Italia
END:VEVENT
END:VCALENDAR