BEGIN:VCALENDAR
VERSION:2.0
PRODID:-// - ECPv5.6.0//NONSGML v1.0//EN
CALSCALE:GREGORIAN
METHOD:PUBLISH
X-ORIGINAL-URL:http://www.reggiapower.it
X-WR-CALDESC:Eventi per 
BEGIN:VTIMEZONE
TZID:Europe/Rome
BEGIN:DAYLIGHT
TZOFFSETFROM:+0100
TZOFFSETTO:+0200
TZNAME:CEST
DTSTART:20220327T010000
END:DAYLIGHT
BEGIN:STANDARD
TZOFFSETFROM:+0200
TZOFFSETTO:+0100
TZNAME:CET
DTSTART:20221030T010000
END:STANDARD
END:VTIMEZONE
BEGIN:VEVENT
DTSTART;VALUE=DATE:20221127
DTEND;VALUE=DATE:20221128
DTSTAMP:20260423T131553
CREATED:20221021T133814Z
LAST-MODIFIED:20221021T133814Z
UID:5118-1669507200-1669593599@www.reggiapower.it
SUMMARY:Napoli- Pompei
DESCRIPTION:  \n \nGara podistica su strada sulla distanza di 30.150 Km
URL:http://www.reggiapower.it/?tribe_events=napoli-pompei
LOCATION:Napoli\, Viale J.F. Kennedy\, Napoli\, napoli\, 80121\, Italia
END:VEVENT
END:VCALENDAR