BEGIN:VCALENDAR
VERSION:2.0
PRODID:-// - ECPv5.6.0//NONSGML v1.0//EN
CALSCALE:GREGORIAN
METHOD:PUBLISH
X-ORIGINAL-URL:http://www.reggiapower.it
X-WR-CALDESC:Eventi per 
BEGIN:VTIMEZONE
TZID:Europe/Rome
BEGIN:DAYLIGHT
TZOFFSETFROM:+0100
TZOFFSETTO:+0200
TZNAME:CEST
DTSTART:20220327T010000
END:DAYLIGHT
BEGIN:STANDARD
TZOFFSETFROM:+0200
TZOFFSETTO:+0100
TZNAME:CET
DTSTART:20221030T010000
END:STANDARD
END:VTIMEZONE
BEGIN:VEVENT
DTSTART;VALUE=DATE:20220227
DTEND;VALUE=DATE:20220228
DTSTAMP:20260423T124809
CREATED:20220207T173227Z
LAST-MODIFIED:20220207T173332Z
UID:4715-1645920000-1646006399@www.reggiapower.it
SUMMARY:NAPOLI CITY HALF MARATHON 2022
DESCRIPTION:  \nCorsa su strada sulla distanza di 21.097 Km
URL:http://www.reggiapower.it/?tribe_events=napoli-city-half-marathon-2022
LOCATION:Napoli\, Viale J.F. Kennedy\, Napoli\, napoli\, 80121\, Italia
END:VEVENT
END:VCALENDAR