BEGIN:VCALENDAR
VERSION:2.0
PRODID:-// - ECPv5.6.0//NONSGML v1.0//EN
CALSCALE:GREGORIAN
METHOD:PUBLISH
X-ORIGINAL-URL:http://www.reggiapower.it
X-WR-CALDESC:Eventi per 
BEGIN:VTIMEZONE
TZID:Europe/Rome
BEGIN:DAYLIGHT
TZOFFSETFROM:+0100
TZOFFSETTO:+0200
TZNAME:CEST
DTSTART:20230326T010000
END:DAYLIGHT
BEGIN:STANDARD
TZOFFSETFROM:+0200
TZOFFSETTO:+0100
TZNAME:CET
DTSTART:20231029T010000
END:STANDARD
END:VTIMEZONE
BEGIN:VEVENT
DTSTART;VALUE=DATE:20230226
DTEND;VALUE=DATE:20230227
DTSTAMP:20260423T124715
CREATED:20230113T152838Z
LAST-MODIFIED:20230113T152838Z
UID:5263-1677369600-1677455999@www.reggiapower.it
SUMMARY:NAPOLI CITY HALF MARATHON
DESCRIPTION:2023 \nCorsa su strada sulla distanza di 21.097 Km
URL:http://www.reggiapower.it/?tribe_events=napoli-city-half-marathon
LOCATION:Napoli\, Viale J.F. Kennedy\, Napoli\, napoli\, 80121\, Italia
END:VEVENT
END:VCALENDAR