BEGIN:VCALENDAR
VERSION:2.0
PRODID:-// - ECPv5.6.0//NONSGML v1.0//EN
CALSCALE:GREGORIAN
METHOD:PUBLISH
X-ORIGINAL-URL:http://www.reggiapower.it
X-WR-CALDESC:Eventi per 
BEGIN:VTIMEZONE
TZID:Europe/Rome
BEGIN:DAYLIGHT
TZOFFSETFROM:+0100
TZOFFSETTO:+0200
TZNAME:CEST
DTSTART:20220327T010000
END:DAYLIGHT
BEGIN:STANDARD
TZOFFSETFROM:+0200
TZOFFSETTO:+0100
TZNAME:CET
DTSTART:20221030T010000
END:STANDARD
END:VTIMEZONE
BEGIN:VEVENT
DTSTART;VALUE=DATE:20220424
DTEND;VALUE=DATE:20220425
DTSTAMP:20260423T124914
CREATED:20220325T141143Z
LAST-MODIFIED:20220325T141241Z
UID:4866-1650758400-1650844799@www.reggiapower.it
SUMMARY:"Memorial Tonino Andreozzi " 1° Edizione
DESCRIPTION:
URL:http://www.reggiapower.it/?tribe_events=memorial-tonino-andreozzi-1-edizione
LOCATION:Villa Literno\, Via Carducci\, Villa Literno\, Caserta\, 81039\, Italia
END:VEVENT
END:VCALENDAR