BEGIN:VCALENDAR
VERSION:2.0
PRODID:-// - ECPv5.6.0//NONSGML v1.0//EN
CALSCALE:GREGORIAN
METHOD:PUBLISH
X-ORIGINAL-URL:http://www.reggiapower.it
X-WR-CALDESC:Eventi per 
BEGIN:VTIMEZONE
TZID:Europe/Rome
BEGIN:DAYLIGHT
TZOFFSETFROM:+0100
TZOFFSETTO:+0200
TZNAME:CEST
DTSTART:20190331T010000
END:DAYLIGHT
BEGIN:STANDARD
TZOFFSETFROM:+0200
TZOFFSETTO:+0100
TZNAME:CET
DTSTART:20191027T010000
END:STANDARD
END:VTIMEZONE
BEGIN:VEVENT
DTSTART;VALUE=DATE:20190622
DTEND;VALUE=DATE:20190623
DTSTAMP:20260423T131515
CREATED:20190305T111831Z
LAST-MODIFIED:20190415T104816Z
UID:3177-1561161600-1561247999@www.reggiapower.it
SUMMARY:Matese Half Marathon 2019
DESCRIPTION:Gara podistica sulla distanza di km 21\,097
URL:http://www.reggiapower.it/?tribe_events=matese-half-marathon-2019
LOCATION:Piedimonte Matese\, località Acqua di Santa Maria\, Piedimonte Matese\, Caserta\, Italy
END:VEVENT
END:VCALENDAR