BEGIN:VCALENDAR
VERSION:2.0
PRODID:-// - ECPv5.6.0//NONSGML v1.0//EN
CALSCALE:GREGORIAN
METHOD:PUBLISH
X-ORIGINAL-URL:http://www.reggiapower.it
X-WR-CALDESC:Eventi per 
BEGIN:VTIMEZONE
TZID:Europe/Rome
BEGIN:DAYLIGHT
TZOFFSETFROM:+0100
TZOFFSETTO:+0200
TZNAME:CEST
DTSTART:20210328T010000
END:DAYLIGHT
BEGIN:STANDARD
TZOFFSETFROM:+0200
TZOFFSETTO:+0100
TZNAME:CET
DTSTART:20211031T010000
END:STANDARD
END:VTIMEZONE
BEGIN:VEVENT
DTSTART;VALUE=DATE:20210509
DTEND;VALUE=DATE:20210510
DTSTAMP:20260423T161151
CREATED:20210303T085553Z
LAST-MODIFIED:20210303T085644Z
UID:4395-1620518400-1620604799@www.reggiapower.it
SUMMARY:Maratonina del Mare ( Pescara Half Marathon) 7° edizione
DESCRIPTION:Corsa su strada sulla distanza di 21 km
URL:http://www.reggiapower.it/?tribe_events=maratonina-del-mare-pescara-half-marathon-7-edizione
LOCATION:Pescara\, Via Pepe stadio adriatico\, Pescara\, pescara\, 65121\, Italia
END:VEVENT
END:VCALENDAR