BEGIN:VCALENDAR
VERSION:2.0
PRODID:-// - ECPv5.6.0//NONSGML v1.0//EN
CALSCALE:GREGORIAN
METHOD:PUBLISH
X-ORIGINAL-URL:http://www.reggiapower.it
X-WR-CALDESC:Eventi per 
BEGIN:VTIMEZONE
TZID:Europe/Rome
BEGIN:DAYLIGHT
TZOFFSETFROM:+0100
TZOFFSETTO:+0200
TZNAME:CEST
DTSTART:20190331T010000
END:DAYLIGHT
BEGIN:STANDARD
TZOFFSETFROM:+0200
TZOFFSETTO:+0100
TZNAME:CET
DTSTART:20191027T010000
END:STANDARD
END:VTIMEZONE
BEGIN:VEVENT
DTSTART;VALUE=DATE:20190512
DTEND;VALUE=DATE:20190513
DTSTAMP:20260423T200311
CREATED:20190305T110818Z
LAST-MODIFIED:20190305T110818Z
UID:3173-1557619200-1557705599@www.reggiapower.it
SUMMARY:Maratonina del Mare Pescara 2019
DESCRIPTION:Garapodistica sulla distanza di km 21\,097
URL:http://www.reggiapower.it/?tribe_events=maratonina-del-mare-pescara-2019
LOCATION:Pescara\, Viale Pepe\, Pescara\, Pescara\, Italy
END:VEVENT
END:VCALENDAR