BEGIN:VCALENDAR
VERSION:2.0
PRODID:-// - ECPv5.6.0//NONSGML v1.0//EN
CALSCALE:GREGORIAN
METHOD:PUBLISH
X-ORIGINAL-URL:http://www.reggiapower.it
X-WR-CALDESC:Eventi per 
BEGIN:VTIMEZONE
TZID:Europe/Rome
BEGIN:DAYLIGHT
TZOFFSETFROM:+0100
TZOFFSETTO:+0200
TZNAME:CEST
DTSTART:20210328T010000
END:DAYLIGHT
BEGIN:STANDARD
TZOFFSETFROM:+0200
TZOFFSETTO:+0100
TZNAME:CET
DTSTART:20211031T010000
END:STANDARD
END:VTIMEZONE
BEGIN:VEVENT
DTSTART;VALUE=DATE:20210626
DTEND;VALUE=DATE:20210627
DTSTAMP:20260423T130512
CREATED:20210526T074630Z
LAST-MODIFIED:20210526T074758Z
UID:4427-1624665600-1624751999@www.reggiapower.it
SUMMARY:Lampadedromia 2021 VI Edizione Acropoli di Cuma-Castel dell'Ovo
DESCRIPTION:Gara su strada sulla distanza di 21 km
URL:http://www.reggiapower.it/?tribe_events=lampadedromia-2021-vi-edizione-acropoli-di-cuma-castel-dellovo
LOCATION:Acropoli di Cuma\, Piazzale archeologico di cuma\, Pozzuoli\, napoli\, 80078\, Italia
END:VEVENT
END:VCALENDAR