BEGIN:VCALENDAR
VERSION:2.0
PRODID:-// - ECPv5.6.0//NONSGML v1.0//EN
CALSCALE:GREGORIAN
METHOD:PUBLISH
X-ORIGINAL-URL:http://www.reggiapower.it
X-WR-CALDESC:Eventi per 
BEGIN:VTIMEZONE
TZID:Europe/Rome
BEGIN:DAYLIGHT
TZOFFSETFROM:+0100
TZOFFSETTO:+0200
TZNAME:CEST
DTSTART:20200329T010000
END:DAYLIGHT
BEGIN:STANDARD
TZOFFSETFROM:+0200
TZOFFSETTO:+0100
TZNAME:CET
DTSTART:20201025T010000
END:STANDARD
END:VTIMEZONE
BEGIN:VEVENT
DTSTART;TZID=Europe/Rome:20200106T090000
DTEND;TZID=Europe/Rome:20200106T103000
DTSTAMP:20260423T141636
CREATED:20191227T155259Z
LAST-MODIFIED:20191227T155259Z
UID:4162-1578301200-1578306600@www.reggiapower.it
SUMMARY:IV Edizione Running befana 2020 corri per Quarto
DESCRIPTION:Gara podistica sulla distanza di 10 km
URL:http://www.reggiapower.it/?tribe_events=iv-edizione-running-befana-2020-corri-per-quarto
LOCATION:Quarto\, Corso Italia\, Quarto\, Napoli\, 80010\, Italia
END:VEVENT
END:VCALENDAR