BEGIN:VCALENDAR
VERSION:2.0
PRODID:-// - ECPv5.6.0//NONSGML v1.0//EN
CALSCALE:GREGORIAN
METHOD:PUBLISH
X-ORIGINAL-URL:http://www.reggiapower.it
X-WR-CALDESC:Eventi per 
BEGIN:VTIMEZONE
TZID:Europe/Rome
BEGIN:DAYLIGHT
TZOFFSETFROM:+0100
TZOFFSETTO:+0200
TZNAME:CEST
DTSTART:20230326T010000
END:DAYLIGHT
BEGIN:STANDARD
TZOFFSETFROM:+0200
TZOFFSETTO:+0100
TZNAME:CET
DTSTART:20231029T010000
END:STANDARD
END:VTIMEZONE
BEGIN:VEVENT
DTSTART;VALUE=DATE:20230205
DTEND;VALUE=DATE:20230206
DTSTAMP:20260423T124852
CREATED:20221021T134927Z
LAST-MODIFIED:20221021T134927Z
UID:5123-1675555200-1675641599@www.reggiapower.it
SUMMARY:III Edizione Maratona Maga Circe
DESCRIPTION:Gara podistica su strada sulla distanza di 13 Km \nGara podistica su strada sulla distanza di 28 Km \nGara podistica sulla distanza di 42 Km
URL:http://www.reggiapower.it/?tribe_events=iii-edizione-maratona-maga-circe
LOCATION:SAN FELICE CIRCEO-SABAUDIA\, Vittorio Veneto\, San Felice a Circeo\, Latina\, 04017\, Italia
END:VEVENT
END:VCALENDAR