BEGIN:VCALENDAR
VERSION:2.0
PRODID:-// - ECPv5.6.0//NONSGML v1.0//EN
CALSCALE:GREGORIAN
METHOD:PUBLISH
X-ORIGINAL-URL:http://www.reggiapower.it
X-WR-CALDESC:Eventi per 
BEGIN:VTIMEZONE
TZID:Europe/Rome
BEGIN:DAYLIGHT
TZOFFSETFROM:+0100
TZOFFSETTO:+0200
TZNAME:CEST
DTSTART:20220327T010000
END:DAYLIGHT
BEGIN:STANDARD
TZOFFSETFROM:+0200
TZOFFSETTO:+0100
TZNAME:CET
DTSTART:20221030T010000
END:STANDARD
END:VTIMEZONE
BEGIN:VEVENT
DTSTART;VALUE=DATE:20221211
DTEND;VALUE=DATE:20221212
DTSTAMP:20260423T130355
CREATED:20221122T095122Z
LAST-MODIFIED:20221122T095122Z
UID:5156-1670716800-1670803199@www.reggiapower.it
SUMMARY:I Edizione Caserta City Run 2022
DESCRIPTION:gara podistica su strada sulla distanza di 9.900 Km
URL:http://www.reggiapower.it/?tribe_events=i-edizione-caserta-city-run-2022
LOCATION:CASERTA\, Piazza margherita\, Caserta\, Caserta\, 81100\, Italia
END:VEVENT
END:VCALENDAR