BEGIN:VCALENDAR
VERSION:2.0
PRODID:-// - ECPv5.6.0//NONSGML v1.0//EN
CALSCALE:GREGORIAN
METHOD:PUBLISH
X-ORIGINAL-URL:http://www.reggiapower.it
X-WR-CALDESC:Eventi per 
BEGIN:VTIMEZONE
TZID:Europe/Rome
BEGIN:DAYLIGHT
TZOFFSETFROM:+0100
TZOFFSETTO:+0200
TZNAME:CEST
DTSTART:20230326T010000
END:DAYLIGHT
BEGIN:STANDARD
TZOFFSETFROM:+0200
TZOFFSETTO:+0100
TZNAME:CET
DTSTART:20231029T010000
END:STANDARD
END:VTIMEZONE
BEGIN:VEVENT
DTSTART;VALUE=DATE:20230129
DTEND;VALUE=DATE:20230130
DTSTAMP:20260423T141439
CREATED:20221214T075644Z
LAST-MODIFIED:20221214T075644Z
UID:5192-1674950400-1675036799@www.reggiapower.it
SUMMARY:GAETA-FORMIA
DESCRIPTION:Gara podistica  su strada sulla distanza di 11 km
URL:http://www.reggiapower.it/?tribe_events=gaeta-formia-2
LOCATION:Gaeta-Formia\, piazza XIX Maggio\, Gaeta\, Latina\, 04024\, Italia
END:VEVENT
END:VCALENDAR