BEGIN:VCALENDAR
VERSION:2.0
PRODID:-// - ECPv5.6.0//NONSGML v1.0//EN
CALSCALE:GREGORIAN
METHOD:PUBLISH
X-ORIGINAL-URL:http://www.reggiapower.it
X-WR-CALDESC:Eventi per 
BEGIN:VTIMEZONE
TZID:Europe/Rome
BEGIN:DAYLIGHT
TZOFFSETFROM:+0100
TZOFFSETTO:+0200
TZNAME:CEST
DTSTART:20230326T010000
END:DAYLIGHT
BEGIN:STANDARD
TZOFFSETFROM:+0200
TZOFFSETTO:+0100
TZNAME:CET
DTSTART:20231029T010000
END:STANDARD
END:VTIMEZONE
BEGIN:VEVENT
DTSTART;VALUE=DATE:20230513
DTEND;VALUE=DATE:20230514
DTSTAMP:20260423T141437
CREATED:20230322T080556Z
LAST-MODIFIED:20230322T080556Z
UID:5347-1683936000-1684022399@www.reggiapower.it
SUMMARY:CORSA DEL MITO
DESCRIPTION:Corsa su strada sulla distanza di 15 km
URL:http://www.reggiapower.it/?tribe_events=corsa-del-mito
LOCATION:PALINURO-MARINA DI CAMEROTA\, Porto Turistico\, Palinuro\, Salerno\, 84051\, Italia
END:VEVENT
END:VCALENDAR