BEGIN:VCALENDAR
VERSION:2.0
PRODID:-// - ECPv5.6.0//NONSGML v1.0//EN
CALSCALE:GREGORIAN
METHOD:PUBLISH
X-ORIGINAL-URL:http://www.reggiapower.it
X-WR-CALDESC:Eventi per 
BEGIN:VTIMEZONE
TZID:Europe/Rome
BEGIN:DAYLIGHT
TZOFFSETFROM:+0100
TZOFFSETTO:+0200
TZNAME:CEST
DTSTART:20190331T010000
END:DAYLIGHT
BEGIN:STANDARD
TZOFFSETFROM:+0200
TZOFFSETTO:+0100
TZNAME:CET
DTSTART:20191027T010000
END:STANDARD
END:VTIMEZONE
BEGIN:VEVENT
DTSTART;TZID=Europe/Rome:20191124T090000
DTEND;TZID=Europe/Rome:20191124T103000
DTSTAMP:20260423T130518
CREATED:20191009T062012Z
LAST-MODIFIED:20191009T062012Z
UID:3863-1574586000-1574591400@www.reggiapower.it
SUMMARY:Corri nella storia VII Edizione Memorial Vincenzo Manna
DESCRIPTION:  \nGara su strada sulla distanza di 10 km
URL:http://www.reggiapower.it/?tribe_events=corri-nella-storia-vii-edizione-memorial-vincenzo-manna
LOCATION:CAPUA\, via napoli\, capua\, caserta\, 81043\, Italia
END:VEVENT
END:VCALENDAR