BEGIN:VCALENDAR
VERSION:2.0
PRODID:-// - ECPv5.6.0//NONSGML v1.0//EN
CALSCALE:GREGORIAN
METHOD:PUBLISH
X-ORIGINAL-URL:http://www.reggiapower.it
X-WR-CALDESC:Eventi per 
BEGIN:VTIMEZONE
TZID:Europe/Rome
BEGIN:DAYLIGHT
TZOFFSETFROM:+0100
TZOFFSETTO:+0200
TZNAME:CEST
DTSTART:20220327T010000
END:DAYLIGHT
BEGIN:STANDARD
TZOFFSETFROM:+0200
TZOFFSETTO:+0100
TZNAME:CET
DTSTART:20221030T010000
END:STANDARD
END:VTIMEZONE
BEGIN:VEVENT
DTSTART;VALUE=DATE:20220525
DTEND;VALUE=DATE:20220526
DTSTAMP:20260423T173713
CREATED:20220415T140644Z
LAST-MODIFIED:20220415T140750Z
UID:4900-1653436800-1653523199@www.reggiapower.it
SUMMARY:Combinata telesia 10K + Telesia half Marathon 21K
DESCRIPTION:Combinata
URL:http://www.reggiapower.it/?tribe_events=combinata-telesia-10k-telesia-half-marathon-21k
LOCATION:TELESE\, Telese Terme\, Telese\, Benevento\, 82037\, Italia
END:VEVENT
END:VCALENDAR