BEGIN:VCALENDAR
VERSION:2.0
PRODID:-// - ECPv5.6.0//NONSGML v1.0//EN
CALSCALE:GREGORIAN
METHOD:PUBLISH
X-ORIGINAL-URL:http://www.reggiapower.it
X-WR-CALDESC:Eventi per 
BEGIN:VTIMEZONE
TZID:Europe/Rome
BEGIN:DAYLIGHT
TZOFFSETFROM:+0100
TZOFFSETTO:+0200
TZNAME:CEST
DTSTART:20200329T010000
END:DAYLIGHT
BEGIN:STANDARD
TZOFFSETFROM:+0200
TZOFFSETTO:+0100
TZNAME:CET
DTSTART:20201025T010000
END:STANDARD
END:VTIMEZONE
BEGIN:VEVENT
DTSTART;TZID=Europe/Rome:20200209T090000
DTEND;TZID=Europe/Rome:20200209T113000
DTSTAMP:20260423T124635
CREATED:20191105T104103Z
LAST-MODIFIED:20191105T104103Z
UID:3958-1581238800-1581247800@www.reggiapower.it
SUMMARY:Barletta Half Marathon - Memorial Angelo Diterlizzi
DESCRIPTION:Gara su strada sulla distanza di 21 km
URL:http://www.reggiapower.it/?tribe_events=barletta-half-marathon-memorial-angelo-diterlizzi
LOCATION:BARLETTA\, P/zza Castello Via Carlo V D' Asburgo\, Barletta\, Bari\, 76121\, Italia
END:VEVENT
END:VCALENDAR