BEGIN:VCALENDAR
VERSION:2.0
PRODID:-// - ECPv5.6.0//NONSGML v1.0//EN
CALSCALE:GREGORIAN
METHOD:PUBLISH
X-ORIGINAL-URL:http://www.reggiapower.it
X-WR-CALDESC:Eventi per 
BEGIN:VTIMEZONE
TZID:Europe/Rome
BEGIN:DAYLIGHT
TZOFFSETFROM:+0100
TZOFFSETTO:+0200
TZNAME:CEST
DTSTART:20200329T010000
END:DAYLIGHT
BEGIN:STANDARD
TZOFFSETFROM:+0200
TZOFFSETTO:+0100
TZNAME:CET
DTSTART:20201025T010000
END:STANDARD
END:VTIMEZONE
BEGIN:VEVENT
DTSTART;TZID=Europe/Rome:20200322T090000
DTEND;TZID=Europe/Rome:20200322T110000
DTSTAMP:20260423T131827
CREATED:20200115T091824Z
LAST-MODIFIED:20200115T091824Z
UID:4235-1584867600-1584874800@www.reggiapower.it
SUMMARY:Agropoli Paestum Half Marathon 21° edizione
DESCRIPTION:Gara su strada sulla distanza di 21 km
URL:http://www.reggiapower.it/?tribe_events=agropoli-paestum-half-marathon-21-edizione
LOCATION:Agropoli\, Via Risorgimento\, Agropoli\, salerno\, 84043\, Italia
END:VEVENT
END:VCALENDAR