BEGIN:VCALENDAR
VERSION:2.0
PRODID:-// - ECPv5.6.0//NONSGML v1.0//EN
CALSCALE:GREGORIAN
METHOD:PUBLISH
X-ORIGINAL-URL:http://www.reggiapower.it
X-WR-CALDESC:Eventi per 
BEGIN:VTIMEZONE
TZID:Europe/Rome
BEGIN:DAYLIGHT
TZOFFSETFROM:+0100
TZOFFSETTO:+0200
TZNAME:CEST
DTSTART:20220327T010000
END:DAYLIGHT
BEGIN:STANDARD
TZOFFSETFROM:+0200
TZOFFSETTO:+0100
TZNAME:CET
DTSTART:20221030T010000
END:STANDARD
END:VTIMEZONE
BEGIN:VEVENT
DTSTART;VALUE=DATE:20220403
DTEND;VALUE=DATE:20220404
DTSTAMP:20260423T142811
CREATED:20211210T145611Z
LAST-MODIFIED:20211210T145611Z
UID:4659-1648944000-1649030399@www.reggiapower.it
SUMMARY:AGROPOLI PAESTUM HALF MARATHON 2022 " TROFEO MENNEA"
DESCRIPTION:Corsa su strada sulla distanza di 21 Km
URL:http://www.reggiapower.it/?tribe_events=agropoli-paestum-half-marathon-2022-trofeo-mennea
LOCATION:AGROPOLI\, Via Risorgimento\, Agropoli\, salerno\, 84043\, Italia
END:VEVENT
END:VCALENDAR