BEGIN:VCALENDAR
VERSION:2.0
PRODID:-// - ECPv5.6.0//NONSGML v1.0//EN
CALSCALE:GREGORIAN
METHOD:PUBLISH
X-ORIGINAL-URL:http://www.reggiapower.it
X-WR-CALDESC:Eventi per 
BEGIN:VTIMEZONE
TZID:Europe/Rome
BEGIN:DAYLIGHT
TZOFFSETFROM:+0100
TZOFFSETTO:+0200
TZNAME:CEST
DTSTART:20190331T010000
END:DAYLIGHT
BEGIN:STANDARD
TZOFFSETFROM:+0200
TZOFFSETTO:+0100
TZNAME:CET
DTSTART:20191027T010000
END:STANDARD
END:VTIMEZONE
BEGIN:VEVENT
DTSTART;TZID=Europe/Rome:20191103T090000
DTEND;TZID=Europe/Rome:20191103T103000
DTSTAMP:20260423T142954
CREATED:20191016T063339Z
LAST-MODIFIED:20191016T063339Z
UID:3877-1572771600-1572777000@www.reggiapower.it
SUMMARY:5° edizione Vivi San Vitaliano
DESCRIPTION:  \nGara podistica su strada su distanza di 10 km
URL:http://www.reggiapower.it/?tribe_events=5-edizione-vivi-san-vitaliano
LOCATION:NOLA\, VIA D'ALESSANDRO\, SAN VITALIANO\, Napoli\, 80030\, Italia
END:VEVENT
END:VCALENDAR