BEGIN:VCALENDAR
VERSION:2.0
PRODID:-// - ECPv5.6.0//NONSGML v1.0//EN
CALSCALE:GREGORIAN
METHOD:PUBLISH
X-ORIGINAL-URL:http://www.reggiapower.it
X-WR-CALDESC:Eventi per 
BEGIN:VTIMEZONE
TZID:Europe/Rome
BEGIN:DAYLIGHT
TZOFFSETFROM:+0100
TZOFFSETTO:+0200
TZNAME:CEST
DTSTART:20220327T010000
END:DAYLIGHT
BEGIN:STANDARD
TZOFFSETFROM:+0200
TZOFFSETTO:+0100
TZNAME:CET
DTSTART:20221030T010000
END:STANDARD
END:VTIMEZONE
BEGIN:VEVENT
DTSTART;VALUE=DATE:20220220
DTEND;VALUE=DATE:20220221
DTSTAMP:20260423T124758
CREATED:20220119T075108Z
LAST-MODIFIED:20220119T075108Z
UID:4699-1645315200-1645401599@www.reggiapower.it
SUMMARY:5° Edizione Kurren Kurren
DESCRIPTION:Corsa su strada sulla distanza di 9.900 Km
URL:http://www.reggiapower.it/?tribe_events=5-edizione-kurren-kurren
LOCATION:Caivano\, Zona ASI\, Caivano\, Napoli\, 80023\, Italia
END:VEVENT
END:VCALENDAR