BEGIN:VCALENDAR
VERSION:2.0
PRODID:-// - ECPv5.6.0//NONSGML v1.0//EN
CALSCALE:GREGORIAN
METHOD:PUBLISH
X-ORIGINAL-URL:http://www.reggiapower.it
X-WR-CALDESC:Eventi per 
BEGIN:VTIMEZONE
TZID:Europe/Rome
BEGIN:DAYLIGHT
TZOFFSETFROM:+0100
TZOFFSETTO:+0200
TZNAME:CEST
DTSTART:20200329T010000
END:DAYLIGHT
BEGIN:STANDARD
TZOFFSETFROM:+0200
TZOFFSETTO:+0100
TZNAME:CET
DTSTART:20201025T010000
END:STANDARD
END:VTIMEZONE
BEGIN:VEVENT
DTSTART;TZID=Europe/Rome:20200314T090000
DTEND;TZID=Europe/Rome:20200314T160000
DTSTAMP:20260423T130358
CREATED:20200115T085006Z
LAST-MODIFIED:20200115T085006Z
UID:4231-1584176400-1584201600@www.reggiapower.it
SUMMARY:5° edizione 6 ore della Reggia Reggia
DESCRIPTION:Gara su sterrato 6 ore \nStaffetta 3×2 ore
URL:http://www.reggiapower.it/?tribe_events=5-edizione-6-ore-della-reggia-reggia
LOCATION:Caserta\, Corso trieste\, Caserta\, caserta\, 81100\, Italia
END:VEVENT
END:VCALENDAR