BEGIN:VCALENDAR
VERSION:2.0
PRODID:-// - ECPv5.6.0//NONSGML v1.0//EN
CALSCALE:GREGORIAN
METHOD:PUBLISH
X-ORIGINAL-URL:http://www.reggiapower.it
X-WR-CALDESC:Eventi per 
BEGIN:VTIMEZONE
TZID:Europe/Rome
BEGIN:DAYLIGHT
TZOFFSETFROM:+0100
TZOFFSETTO:+0200
TZNAME:CEST
DTSTART:20230326T010000
END:DAYLIGHT
BEGIN:STANDARD
TZOFFSETFROM:+0200
TZOFFSETTO:+0100
TZNAME:CET
DTSTART:20231029T010000
END:STANDARD
END:VTIMEZONE
BEGIN:VEVENT
DTSTART;VALUE=DATE:20230129
DTEND;VALUE=DATE:20230130
DTSTAMP:20260423T124645
CREATED:20221111T162845Z
LAST-MODIFIED:20221111T162845Z
UID:5145-1674950400-1674950400@www.reggiapower.it
SUMMARY:43° Edizione Maratonina 3 Comuni
DESCRIPTION:Gara podistica su strada sulla distanza di 22.400 Km
URL:http://www.reggiapower.it/?tribe_events=43-edizione-maratonina-3-comuni
LOCATION:Civita Castellana\, Via Roma\, Civita Castellana\, Viterbo\, 01033\, Italia
END:VEVENT
END:VCALENDAR