BEGIN:VCALENDAR
VERSION:2.0
PRODID:-// - ECPv5.6.0//NONSGML v1.0//EN
CALSCALE:GREGORIAN
METHOD:PUBLISH
X-ORIGINAL-URL:http://www.reggiapower.it
X-WR-CALDESC:Eventi per 
BEGIN:VTIMEZONE
TZID:Europe/Rome
BEGIN:DAYLIGHT
TZOFFSETFROM:+0100
TZOFFSETTO:+0200
TZNAME:CEST
DTSTART:20190331T010000
END:DAYLIGHT
BEGIN:STANDARD
TZOFFSETFROM:+0200
TZOFFSETTO:+0100
TZNAME:CET
DTSTART:20191027T010000
END:STANDARD
END:VTIMEZONE
BEGIN:VEVENT
DTSTART;TZID=Europe/Rome:20191103T083000
DTEND;TZID=Europe/Rome:20191103T110000
DTSTAMP:20260423T142725
CREATED:20191009T065925Z
LAST-MODIFIED:20191009T065925Z
UID:3867-1572769800-1572778800@www.reggiapower.it
SUMMARY:37° Edizione  Maratona SpaccaNapoli
DESCRIPTION:  \nCorsa su strada sulla distanza di 14 km
URL:http://www.reggiapower.it/?tribe_events=37-edizione-maratona-spaccanapoli
LOCATION:Napoli\, Viale J.F. Kennedy\, Napoli\, napoli\, 80121\, Italia
END:VEVENT
END:VCALENDAR