BEGIN:VCALENDAR
VERSION:2.0
PRODID:-// - ECPv5.6.0//NONSGML v1.0//EN
CALSCALE:GREGORIAN
METHOD:PUBLISH
X-ORIGINAL-URL:http://www.reggiapower.it
X-WR-CALDESC:Eventi per 
BEGIN:VTIMEZONE
TZID:Europe/Rome
BEGIN:DAYLIGHT
TZOFFSETFROM:+0100
TZOFFSETTO:+0200
TZNAME:CEST
DTSTART:20230326T010000
END:DAYLIGHT
BEGIN:STANDARD
TZOFFSETFROM:+0200
TZOFFSETTO:+0100
TZNAME:CET
DTSTART:20231029T010000
END:STANDARD
END:VTIMEZONE
BEGIN:VEVENT
DTSTART;VALUE=DATE:20230106
DTEND;VALUE=DATE:20230107
DTSTAMP:20260423T163948
CREATED:20221123T093413Z
LAST-MODIFIED:20221123T093413Z
UID:5178-1672963200-1673049599@www.reggiapower.it
SUMMARY:34° TROFEO DELLA BEFANA
DESCRIPTION:Gara podistica su strada sulla distanza di 10 Km
URL:http://www.reggiapower.it/?tribe_events=34-trofeo-della-befana
LOCATION:Acerra\, piazza Callipari\, Acerra\, napoli\, 80011\, Italia
END:VEVENT
END:VCALENDAR