BEGIN:VCALENDAR
VERSION:2.0
PRODID:-// - ECPv5.6.0//NONSGML v1.0//EN
CALSCALE:GREGORIAN
METHOD:PUBLISH
X-ORIGINAL-URL:http://www.reggiapower.it
X-WR-CALDESC:Eventi per 
BEGIN:VTIMEZONE
TZID:Europe/Rome
BEGIN:DAYLIGHT
TZOFFSETFROM:+0100
TZOFFSETTO:+0200
TZNAME:CEST
DTSTART:20190331T010000
END:DAYLIGHT
BEGIN:STANDARD
TZOFFSETFROM:+0200
TZOFFSETTO:+0100
TZNAME:CET
DTSTART:20191027T010000
END:STANDARD
END:VTIMEZONE
BEGIN:VEVENT
DTSTART;TZID=Europe/Rome:20191019T180000
DTEND;TZID=Europe/Rome:20191019T180000
DTSTAMP:20260425T151813
CREATED:20190918T064909Z
LAST-MODIFIED:20190918T064909Z
UID:3792-1571508000-1571508000@www.reggiapower.it
SUMMARY:3° Edizione Corri Pastorano
DESCRIPTION:  \nGara su strada sulla distanza di 10 km
URL:http://www.reggiapower.it/?tribe_events=3-edizione-corri-pastorano
LOCATION:Pastorano\, pastorano\, caserta\, 81050
END:VEVENT
END:VCALENDAR