BEGIN:VCALENDAR
VERSION:2.0
PRODID:-// - ECPv5.6.0//NONSGML v1.0//EN
CALSCALE:GREGORIAN
METHOD:PUBLISH
X-ORIGINAL-URL:http://www.reggiapower.it
X-WR-CALDESC:Eventi per 
BEGIN:VTIMEZONE
TZID:Europe/Rome
BEGIN:DAYLIGHT
TZOFFSETFROM:+0100
TZOFFSETTO:+0200
TZNAME:CEST
DTSTART:20190331T010000
END:DAYLIGHT
BEGIN:STANDARD
TZOFFSETFROM:+0200
TZOFFSETTO:+0100
TZNAME:CET
DTSTART:20191027T010000
END:STANDARD
END:VTIMEZONE
BEGIN:VEVENT
DTSTART;TZID=Europe/Rome:20190629T190000
DTEND;TZID=Europe/Rome:20190629T190000
DTSTAMP:20260423T131502
CREATED:20190531T132019Z
LAST-MODIFIED:20190531T132019Z
UID:3644-1561834800-1561834800@www.reggiapower.it
SUMMARY:3° Corri San Marco per la pace
DESCRIPTION:  \n \n  \nGara Podistica 10 km
URL:http://www.reggiapower.it/?tribe_events=3-corri-san-marco-per-la-pace
LOCATION:San Marco Evangelista\, Piazza\, San Marco Evangelista\, caserta\, 81020\, Italia
END:VEVENT
END:VCALENDAR