BEGIN:VCALENDAR
VERSION:2.0
PRODID:-// - ECPv5.6.0//NONSGML v1.0//EN
CALSCALE:GREGORIAN
METHOD:PUBLISH
X-ORIGINAL-URL:http://www.reggiapower.it
X-WR-CALDESC:Eventi per 
BEGIN:VTIMEZONE
TZID:Europe/Rome
BEGIN:DAYLIGHT
TZOFFSETFROM:+0100
TZOFFSETTO:+0200
TZNAME:CEST
DTSTART:20210328T010000
END:DAYLIGHT
BEGIN:STANDARD
TZOFFSETFROM:+0200
TZOFFSETTO:+0100
TZNAME:CET
DTSTART:20211031T010000
END:STANDARD
END:VTIMEZONE
BEGIN:VEVENT
DTSTART;VALUE=DATE:20211010
DTEND;VALUE=DATE:20211011
DTSTAMP:20260423T141615
CREATED:20210908T065937Z
LAST-MODIFIED:20210929T144624Z
UID:4482-1633824000-1633910399@www.reggiapower.it
SUMMARY:2° Edizione dei Due Comuni Portico
DESCRIPTION:Gara Podistica su strada sulla distanza di 10 km
URL:http://www.reggiapower.it/?tribe_events=2-edizione-dei-due-comuni-portico
LOCATION:Portico di Caserta\, Piazza Rimembranza\, Portico di Caserta\, Caserta\, 81050\, Italia
END:VEVENT
END:VCALENDAR