BEGIN:VCALENDAR
VERSION:2.0
PRODID:-// - ECPv5.6.0//NONSGML v1.0//EN
CALSCALE:GREGORIAN
METHOD:PUBLISH
X-ORIGINAL-URL:http://www.reggiapower.it
X-WR-CALDESC:Eventi per 
BEGIN:VTIMEZONE
TZID:Europe/Rome
BEGIN:DAYLIGHT
TZOFFSETFROM:+0100
TZOFFSETTO:+0200
TZNAME:CEST
DTSTART:20230326T010000
END:DAYLIGHT
BEGIN:STANDARD
TZOFFSETFROM:+0200
TZOFFSETTO:+0100
TZNAME:CET
DTSTART:20231029T010000
END:STANDARD
END:VTIMEZONE
BEGIN:VEVENT
DTSTART;VALUE=DATE:20230723
DTEND;VALUE=DATE:20230724
DTSTAMP:20260423T211412
CREATED:20230503T061927Z
LAST-MODIFIED:20230503T061927Z
UID:5403-1690070400-1690156799@www.reggiapower.it
SUMMARY:17° EDIZIONE TRE COMUNI ( Pescocostanzo-Roccaraso-Rivisondoli)
DESCRIPTION:Gara podistica su strada sulla distanza di 15.5 Km
URL:http://www.reggiapower.it/?tribe_events=17-edizione-tre-comuni-pescocostanzo-roccaraso-rivisondoli
LOCATION:Pescocostanzo-Rivisondoli-Roccaraso\, via piazza\, pescocostanzo\, aquila\, 67033\, Italia
END:VEVENT
END:VCALENDAR