BEGIN:VCALENDAR
VERSION:2.0
PRODID:-// - ECPv5.6.0//NONSGML v1.0//EN
CALSCALE:GREGORIAN
METHOD:PUBLISH
X-ORIGINAL-URL:http://www.reggiapower.it
X-WR-CALDESC:Eventi per 
BEGIN:VTIMEZONE
TZID:Europe/Rome
BEGIN:DAYLIGHT
TZOFFSETFROM:+0100
TZOFFSETTO:+0200
TZNAME:CEST
DTSTART:20220327T010000
END:DAYLIGHT
BEGIN:STANDARD
TZOFFSETFROM:+0200
TZOFFSETTO:+0100
TZNAME:CET
DTSTART:20221030T010000
END:STANDARD
END:VTIMEZONE
BEGIN:VEVENT
DTSTART;VALUE=DATE:20220619
DTEND;VALUE=DATE:20220620
DTSTAMP:20260423T141719
CREATED:20220401T133522Z
LAST-MODIFIED:20220525T134229Z
UID:4873-1655596800-1655683199@www.reggiapower.it
SUMMARY:15° Edizione Telesia 10K
DESCRIPTION:Corsa su strada sulla distanza di 10 Km
URL:http://www.reggiapower.it/?tribe_events=15-edizione-telesia-10k
LOCATION:Telese Terme\, Viale Europa\, Telese Terme\, Benevento\, 82037\, Italia
END:VEVENT
END:VCALENDAR