BEGIN:VCALENDAR
VERSION:2.0
PRODID:-// - ECPv5.6.0//NONSGML v1.0//EN
CALSCALE:GREGORIAN
METHOD:PUBLISH
X-ORIGINAL-URL:http://www.reggiapower.it
X-WR-CALDESC:Eventi per 
BEGIN:VTIMEZONE
TZID:Europe/Rome
BEGIN:DAYLIGHT
TZOFFSETFROM:+0100
TZOFFSETTO:+0200
TZNAME:CEST
DTSTART:20220327T010000
END:DAYLIGHT
BEGIN:STANDARD
TZOFFSETFROM:+0200
TZOFFSETTO:+0100
TZNAME:CET
DTSTART:20221030T010000
END:STANDARD
END:VTIMEZONE
BEGIN:VEVENT
DTSTART;VALUE=DATE:20220911
DTEND;VALUE=DATE:20220912
DTSTAMP:20260423T124819
CREATED:20220727T063530Z
LAST-MODIFIED:20220727T063530Z
UID:5006-1662854400-1662940799@www.reggiapower.it
SUMMARY:12° EDIZIONE CORRI MARCIANISE
DESCRIPTION:GARA PODISTICA SU STRADA SULLA DISTANZA DI 10 KM
URL:http://www.reggiapower.it/?tribe_events=12-edizione-corri-marcianise
LOCATION:MARCIANISE\, PIAZZA UMBERTO I\, MARCIANISE\, CASERTA\, 81025\, Italia
END:VEVENT
END:VCALENDAR