BEGIN:VCALENDAR
VERSION:2.0
PRODID:-// - ECPv5.6.0//NONSGML v1.0//EN
CALSCALE:GREGORIAN
METHOD:PUBLISH
X-ORIGINAL-URL:http://www.reggiapower.it
X-WR-CALDESC:Eventi per 
BEGIN:VTIMEZONE
TZID:Europe/Rome
BEGIN:DAYLIGHT
TZOFFSETFROM:+0100
TZOFFSETTO:+0200
TZNAME:CEST
DTSTART:20190331T010000
END:DAYLIGHT
BEGIN:STANDARD
TZOFFSETFROM:+0200
TZOFFSETTO:+0100
TZNAME:CET
DTSTART:20191027T010000
END:STANDARD
END:VTIMEZONE
BEGIN:VEVENT
DTSTART;VALUE=DATE:20190511
DTEND;VALUE=DATE:20190512
DTSTAMP:20260423T225814
CREATED:20190305T101447Z
LAST-MODIFIED:20190305T101447Z
UID:3147-1557532800-1557619199@www.reggiapower.it
SUMMARY:10^ CORSA DEL MITO
DESCRIPTION:Gara di Corsa su Strada sulla distanza di km 15\n\nLa Corsa del Mito\, 15 km nella natura dove correre è un piacere. La manifestazione podistica si svolge nello splendido scenario del Parco Nazionale del Cilento e del Vallo di Diano.
URL:http://www.reggiapower.it/?tribe_events=10-corsa-del-mito
LOCATION:Palinuro Porto Turistico\, Via Porto\, Palinuro\, Salerno\, Italy
END:VEVENT
END:VCALENDAR